BEGIN:VCALENDAR
VERSION:2.0
PRODID:-//eventon.com NONSGML v1.0//EN
BEGIN:VEVENT
UID:69e5f1644cd5c
DTSTAMP:20260420T092700
DTSTART:20240724
DTEND:20240724
TZID:Etc/Greenwich
LOCATION:
SUMMARY:VIOLIN MASTERCLASS - BERLIN\,  GERMANY
DESCRIPTION: \nhttps://www.sebastianmueller.net/events/violin-masterclass-berlin-germany/
URL:https://www.sebastianmueller.net/events/violin-masterclass-berlin-germany/
END:VEVENT
END:VCALENDAR