BEGIN:VCALENDAR
VERSION:2.0
PRODID:-//eventon.com NONSGML v1.0//EN
BEGIN:VEVENT
UID:69e4d5b3d0d5b
DTSTAMP:20260419T131635
DTSTART:20241010T103000Z
DTEND:20241010T123000Z
TZID:Asia/Seoul
LOCATION:Seoul Arts Centre\,  Recital Hall 2406 Nambusunhwan-ro\,  Seocho District\,  Seoul\,  South Korea
SUMMARY:Contemporary String Recital
DESCRIPTION: \nhttps://www.sebastianmueller.net/events/contemporary-string-recital/
URL:https://www.sebastianmueller.net/events/contemporary-string-recital/
END:VEVENT
END:VCALENDAR